BEGIN:VCALENDAR
VERSION:2.0
PRODID:-//ghi gewerbeverein - ECPv6.15.14//NONSGML v1.0//EN
CALSCALE:GREGORIAN
METHOD:PUBLISH
X-ORIGINAL-URL:https://ghi-diepoldsau.ch
X-WR-CALDESC:Veranstaltungen für ghi gewerbeverein
REFRESH-INTERVAL;VALUE=DURATION:PT1H
X-Robots-Tag:noindex
X-PUBLISHED-TTL:PT1H
BEGIN:VTIMEZONE
TZID:Europe/Berlin
BEGIN:DAYLIGHT
TZOFFSETFROM:+0100
TZOFFSETTO:+0200
TZNAME:CEST
DTSTART:20210328T010000
END:DAYLIGHT
BEGIN:STANDARD
TZOFFSETFROM:+0200
TZOFFSETTO:+0100
TZNAME:CET
DTSTART:20211031T010000
END:STANDARD
BEGIN:DAYLIGHT
TZOFFSETFROM:+0100
TZOFFSETTO:+0200
TZNAME:CEST
DTSTART:20220327T010000
END:DAYLIGHT
BEGIN:STANDARD
TZOFFSETFROM:+0200
TZOFFSETTO:+0100
TZNAME:CET
DTSTART:20221030T010000
END:STANDARD
BEGIN:DAYLIGHT
TZOFFSETFROM:+0100
TZOFFSETTO:+0200
TZNAME:CEST
DTSTART:20230326T010000
END:DAYLIGHT
BEGIN:STANDARD
TZOFFSETFROM:+0200
TZOFFSETTO:+0100
TZNAME:CET
DTSTART:20231029T010000
END:STANDARD
BEGIN:DAYLIGHT
TZOFFSETFROM:+0100
TZOFFSETTO:+0200
TZNAME:CEST
DTSTART:20240331T010000
END:DAYLIGHT
BEGIN:STANDARD
TZOFFSETFROM:+0200
TZOFFSETTO:+0100
TZNAME:CET
DTSTART:20241027T010000
END:STANDARD
BEGIN:DAYLIGHT
TZOFFSETFROM:+0100
TZOFFSETTO:+0200
TZNAME:CEST
DTSTART:20250330T010000
END:DAYLIGHT
BEGIN:STANDARD
TZOFFSETFROM:+0200
TZOFFSETTO:+0100
TZNAME:CET
DTSTART:20251026T010000
END:STANDARD
BEGIN:DAYLIGHT
TZOFFSETFROM:+0100
TZOFFSETTO:+0200
TZNAME:CEST
DTSTART:20260329T010000
END:DAYLIGHT
BEGIN:STANDARD
TZOFFSETFROM:+0200
TZOFFSETTO:+0100
TZNAME:CET
DTSTART:20261025T010000
END:STANDARD
BEGIN:DAYLIGHT
TZOFFSETFROM:+0100
TZOFFSETTO:+0200
TZNAME:CEST
DTSTART:20270328T010000
END:DAYLIGHT
BEGIN:STANDARD
TZOFFSETFROM:+0200
TZOFFSETTO:+0100
TZNAME:CET
DTSTART:20271031T010000
END:STANDARD
END:VTIMEZONE
BEGIN:VEVENT
DTSTART;TZID=Europe/Berlin:20260319T173000
DTEND;TZID=Europe/Berlin:20260319T200000
DTSTAMP:20260424T235932
CREATED:20260115T082743Z
LAST-MODIFIED:20260115T082808Z
UID:2980-1773941400-1773950400@ghi-diepoldsau.ch
SUMMARY:Stamm: Ventira Architekten GmbH\, Diepoldsau
DESCRIPTION:
URL:https://ghi-diepoldsau.ch/agenda/stamm-ventira-architekten-gmbh-diepoldsau/
LOCATION:Ventira Architekten\, Wildenaustrasse 25\, Diepoldsau\, 9444\, Switzerland
END:VEVENT
BEGIN:VEVENT
DTSTART;VALUE=DATE:20251127
DTEND;VALUE=DATE:20251128
DTSTAMP:20260424T235932
CREATED:20250210T122038Z
LAST-MODIFIED:20250210T122442Z
UID:2749-1764201600-1764287999@ghi-diepoldsau.ch
SUMMARY:Stamm\, URS SPIRIG Heizung und Sanitär AG
DESCRIPTION:
URL:https://ghi-diepoldsau.ch/agenda/urs-spirig-heizung-und-sanitaer-ag/
LOCATION:URS SPIRIG Heizung und Sanitär AG\, Mitteldorfstrasse 19\, Diepoldsau\, St. Gallen\, 9444\, Switzerland
END:VEVENT
BEGIN:VEVENT
DTSTART;VALUE=DATE:20251023
DTEND;VALUE=DATE:20251024
DTSTAMP:20260424T235932
CREATED:20250210T121908Z
LAST-MODIFIED:20250210T121931Z
UID:2745-1761177600-1761263999@ghi-diepoldsau.ch
SUMMARY:Stamm\, GTrans Transport und Handel AG
DESCRIPTION:
URL:https://ghi-diepoldsau.ch/agenda/stamm-gtrans-transport-und-handel-ag/
LOCATION:GTrans Transport und Handel AG\, Gewerbestrasse 5\, Diepoldsau\, St. Gallen\, 9444
END:VEVENT
BEGIN:VEVENT
DTSTART;VALUE=DATE:20250828
DTEND;VALUE=DATE:20250829
DTSTAMP:20260424T235932
CREATED:20250210T122337Z
LAST-MODIFIED:20250210T122337Z
UID:2753-1756339200-1756425599@ghi-diepoldsau.ch
SUMMARY:Mitglieder-Ausflug
DESCRIPTION:Besuch «ParaForum» Schweizer Paraplegiker-Stiftung \nAbfahrt ab Diepoldsau ca. 11.15 Uhr
URL:https://ghi-diepoldsau.ch/agenda/mitglieder-ausflug-2/
LOCATION:«ParaForum» Schweizer Paraplegiker-Stiftung\, Guido A. Zäch Strasse 3\, Nottwil\, 6207\, Switzerland
END:VEVENT
BEGIN:VEVENT
DTSTART;VALUE=DATE:20250626
DTEND;VALUE=DATE:20250627
DTSTAMP:20260424T235932
CREATED:20250210T121745Z
LAST-MODIFIED:20250210T121745Z
UID:2740-1750896000-1750982399@ghi-diepoldsau.ch
SUMMARY:Stamm\, Fahrmaadhof
DESCRIPTION:
URL:https://ghi-diepoldsau.ch/agenda/stamm-fahrmaadhof/
LOCATION:Fahrmaadhof\, Werkstrasse 16\, Diepoldsau\, St. Gallen\, 9444\, Switzerland
END:VEVENT
BEGIN:VEVENT
DTSTART;VALUE=DATE:20250522
DTEND;VALUE=DATE:20250523
DTSTAMP:20260424T235932
CREATED:20250210T121608Z
LAST-MODIFIED:20250210T121608Z
UID:2736-1747872000-1747958399@ghi-diepoldsau.ch
SUMMARY:«Gwerbler-Znüni» im Grotto von Mehrlust Catering AG
DESCRIPTION:
URL:https://ghi-diepoldsau.ch/agenda/gwerbler-znueni-im-grotto-von-mehrlust-catering-ag/
LOCATION:Grotto\, Gewerbestrasse 1\, Diepoldsau\, St. Gallen\, 9444\, Switzerland
END:VEVENT
BEGIN:VEVENT
DTSTART;VALUE=DATE:20250403
DTEND;VALUE=DATE:20250404
DTSTAMP:20260424T235932
CREATED:20250210T121356Z
LAST-MODIFIED:20250210T121356Z
UID:2732-1743638400-1743724799@ghi-diepoldsau.ch
SUMMARY:Stamm\, foxcom AG mit Führung des Zentrum Rheinauen
DESCRIPTION:
URL:https://ghi-diepoldsau.ch/agenda/stamm-foxcom-ag-mit-fuehrung-des-zentrum-rheinauen/
LOCATION:Zentrum Rheinauen\, Heimstrasse 10\, Diepoldsau\, St. Gallen\, 9444\, Switzerland
END:VEVENT
BEGIN:VEVENT
DTSTART;TZID=Europe/Berlin:20250213T180000
DTEND;TZID=Europe/Berlin:20250214T200000
DTSTAMP:20260424T235932
CREATED:20240219T075843Z
LAST-MODIFIED:20250304T071745Z
UID:2601-1739469600-1739563200@ghi-diepoldsau.ch
SUMMARY:Mitgliederversammlung
DESCRIPTION:
URL:https://ghi-diepoldsau.ch/agenda/mitgliederversammlung-5/
END:VEVENT
BEGIN:VEVENT
DTSTART;TZID=Europe/Berlin:20241128T170000
DTEND;TZID=Europe/Berlin:20241128T190000
DTSTAMP:20260424T235932
CREATED:20240328T140241Z
LAST-MODIFIED:20240328T140241Z
UID:2609-1732813200-1732820400@ghi-diepoldsau.ch
SUMMARY:Mitgliederstamm\, Backstube Widnau / Diepoldsau
DESCRIPTION:
URL:https://ghi-diepoldsau.ch/agenda/mitgliederstamm-backstube-widnau-diepoldsau/
LOCATION:Backstube Widnau\, Bahnhofstrasse 6\, Widnau\, St. Gallen\, 9443\, Switzerland
END:VEVENT
BEGIN:VEVENT
DTSTART;TZID=Europe/Berlin:20241124T100000
DTEND;TZID=Europe/Berlin:20241124T170000
DTSTAMP:20260424T235932
CREATED:20240819T062504Z
LAST-MODIFIED:20240819T062504Z
UID:2623-1732442400-1732467600@ghi-diepoldsau.ch
SUMMARY:Novembermärtli 2024 – Sonntag
DESCRIPTION:
URL:https://ghi-diepoldsau.ch/agenda/novembermaertli-2024-sonntag/
LOCATION:Diepoldsau\, Hohenemserstrasse 4\, Diepoldsau\, St. Gallen\, 9444\, Switzerland
END:VEVENT
BEGIN:VEVENT
DTSTART;TZID=Europe/Berlin:20241123T170000
DTEND;TZID=Europe/Berlin:20241123T210000
DTSTAMP:20260424T235932
CREATED:20240219T075736Z
LAST-MODIFIED:20240819T062747Z
UID:2598-1732381200-1732395600@ghi-diepoldsau.ch
SUMMARY:Novembermärtli 2024 – Samstag
DESCRIPTION:
URL:https://ghi-diepoldsau.ch/agenda/novembermaertli-2024-samstag/
LOCATION:Diepoldsau\, Hohenemserstrasse 4\, Diepoldsau\, St. Gallen\, 9444\, Switzerland
END:VEVENT
BEGIN:VEVENT
DTSTART;TZID=Europe/Berlin:20241024T170000
DTEND;TZID=Europe/Berlin:20241024T190000
DTSTAMP:20260424T235932
CREATED:20240219T074022Z
LAST-MODIFIED:20240328T135142Z
UID:2589-1729789200-1729796400@ghi-diepoldsau.ch
SUMMARY:Mitgliederstamm\, Sobral AG
DESCRIPTION:
URL:https://ghi-diepoldsau.ch/agenda/mitgliederstamm-sobral-ag/
LOCATION:SOBRAL AG\, Werkstrasse 12A\, Diepoldsau\, St. Gallen\, 9444\, Switzerland
END:VEVENT
BEGIN:VEVENT
DTSTART;TZID=Europe/Berlin:20240829T140000
DTEND;TZID=Europe/Berlin:20240829T180000
DTSTAMP:20260424T235932
CREATED:20240219T075436Z
LAST-MODIFIED:20240328T135226Z
UID:2596-1724940000-1724954400@ghi-diepoldsau.ch
SUMMARY:Mitgliederausflug Besichtigung Rega in Zürich
DESCRIPTION:ab Nachmittag
URL:https://ghi-diepoldsau.ch/agenda/mitgliederausflug-besichtigung-rega-in-zuerich/
LOCATION:Rega-Center\, Bimenzältenstrasse 87\, Kloten\, Zürich\, 8302\, Switzerland
END:VEVENT
BEGIN:VEVENT
DTSTART;TZID=Europe/Berlin:20240523T170000
DTEND;TZID=Europe/Berlin:20240523T190000
DTSTAMP:20260424T235932
CREATED:20240219T073725Z
LAST-MODIFIED:20240328T135107Z
UID:2587-1716483600-1716490800@ghi-diepoldsau.ch
SUMMARY:Mitgliederstamm\, Schmitterhof AG
DESCRIPTION:
URL:https://ghi-diepoldsau.ch/agenda/mitgliederstamm-schmitterhof-ag/
LOCATION:Schmitterhof AG\, Alpstrasse 50\, Diepoldsau\, St. Gallen\, 9444\, Switzerland
END:VEVENT
BEGIN:VEVENT
DTSTART;TZID=Europe/Berlin:20240328T090000
DTEND;TZID=Europe/Berlin:20240328T100000
DTSTAMP:20260424T235932
CREATED:20240219T075958Z
LAST-MODIFIED:20240328T135024Z
UID:2582-1711616400-1711620000@ghi-diepoldsau.ch
SUMMARY:Gwerblerznüni im Restaurant Rössli
DESCRIPTION:
URL:https://ghi-diepoldsau.ch/agenda/gwerblerznueni-im-restaurant-roessli/
LOCATION:Restaurant Rössli\, Kugelgasse 45\, Diepoldsau\, Switzerland
END:VEVENT
BEGIN:VEVENT
DTSTART;TZID=Europe/Berlin:20240215T180000
DTEND;TZID=Europe/Berlin:20240215T200000
DTSTAMP:20260424T235932
CREATED:20230309T074953Z
LAST-MODIFIED:20230309T075030Z
UID:2256-1708020000-1708027200@ghi-diepoldsau.ch
SUMMARY:Mitgliederversammlung
DESCRIPTION:
URL:https://ghi-diepoldsau.ch/agenda/mitgliederversammlung-4/
END:VEVENT
BEGIN:VEVENT
DTSTART;TZID=Europe/Berlin:20231130T170000
DTEND;TZID=Europe/Berlin:20231130T190000
DTSTAMP:20260424T235932
CREATED:20230309T074641Z
LAST-MODIFIED:20230309T074641Z
UID:2245-1701363600-1701370800@ghi-diepoldsau.ch
SUMMARY:Stamm\, TC Heerbrugg
DESCRIPTION:
URL:https://ghi-diepoldsau.ch/agenda/stamm-tc-heerbrugg/
LOCATION:TC Heerbrugg\, Widnauerstrasse 8\, Heerbrugg\, 9435\, Switzerland
END:VEVENT
BEGIN:VEVENT
DTSTART;TZID=Europe/Berlin:20231126T100000
DTEND;TZID=Europe/Berlin:20231126T170000
DTSTAMP:20260424T235932
CREATED:20230116T122732Z
LAST-MODIFIED:20230116T122732Z
UID:2225-1700992800-1701018000@ghi-diepoldsau.ch
SUMMARY:Novembermärtli
DESCRIPTION:
URL:https://ghi-diepoldsau.ch/agenda/novembermaertli-2/
LOCATION:Diepoldsau\, Hohenemserstrasse 4\, Diepoldsau\, St. Gallen\, 9444\, Switzerland
END:VEVENT
BEGIN:VEVENT
DTSTART;TZID=Europe/Berlin:20231026T170000
DTEND;TZID=Europe/Berlin:20231026T190000
DTSTAMP:20260424T235932
CREATED:20230309T074349Z
LAST-MODIFIED:20230323T100400Z
UID:2243-1698339600-1698346800@ghi-diepoldsau.ch
SUMMARY:Stamm\, Heros Hygiene und all-signet
DESCRIPTION:
URL:https://ghi-diepoldsau.ch/agenda/stamm-tbd/
LOCATION:Heros Hygiene und all-signet\, Wiesgasse 1\, Diepoldsau\, St. Gallen\, 9444\, Switzerland
END:VEVENT
BEGIN:VEVENT
DTSTART;TZID=Europe/Berlin:20230908T180000
DTEND;TZID=Europe/Berlin:20230908T220000
DTSTAMP:20260424T235932
CREATED:20230309T074811Z
LAST-MODIFIED:20230309T074811Z
UID:2253-1694196000-1694210400@ghi-diepoldsau.ch
SUMMARY:Gwerbler-Abend VRG\, tbd
DESCRIPTION:
URL:https://ghi-diepoldsau.ch/agenda/gwerbler-abend-vrg-tbd/
END:VEVENT
BEGIN:VEVENT
DTSTART;VALUE=DATE:20230831
DTEND;VALUE=DATE:20230901
DTSTAMP:20260424T235932
CREATED:20230309T074720Z
LAST-MODIFIED:20230309T075119Z
UID:2250-1693440000-1693526399@ghi-diepoldsau.ch
SUMMARY:Mitgliederausflug\, tbd
DESCRIPTION:
URL:https://ghi-diepoldsau.ch/agenda/mitgliederausflug/
END:VEVENT
BEGIN:VEVENT
DTSTART;TZID=Europe/Berlin:20230601T170000
DTEND;TZID=Europe/Berlin:20230601T190000
DTSTAMP:20260424T235932
CREATED:20230309T074301Z
LAST-MODIFIED:20230309T074301Z
UID:2241-1685638800-1685646000@ghi-diepoldsau.ch
SUMMARY:Stamm bei Landwirt Rico Kuster
DESCRIPTION:
URL:https://ghi-diepoldsau.ch/agenda/stamm-bei-landwirt-rico-kuster/
END:VEVENT
BEGIN:VEVENT
DTSTART;TZID=Europe/Berlin:20230330T090000
DTEND;TZID=Europe/Berlin:20230330T100000
DTSTAMP:20260424T235932
CREATED:20230309T074055Z
LAST-MODIFIED:20230309T074055Z
UID:2239-1680166800-1680170400@ghi-diepoldsau.ch
SUMMARY:Gwerbler-Znüni
DESCRIPTION:
URL:https://ghi-diepoldsau.ch/agenda/gwerbler-znueni-2/
END:VEVENT
BEGIN:VEVENT
DTSTART;TZID=Europe/Berlin:20230215T180000
DTEND;TZID=Europe/Berlin:20230215T180000
DTSTAMP:20260424T235932
CREATED:20220627T072237Z
LAST-MODIFIED:20220627T072237Z
UID:2068-1676484000-1676484000@ghi-diepoldsau.ch
SUMMARY:Mitgliederversammlung
DESCRIPTION:
URL:https://ghi-diepoldsau.ch/agenda/mitgliederversammlung-3/
LOCATION:Diepoldsau\, Hohenemserstrasse 4\, Diepoldsau\, St. Gallen\, 9444\, Switzerland
END:VEVENT
BEGIN:VEVENT
DTSTART;TZID=Europe/Berlin:20221124T170000
DTEND;TZID=Europe/Berlin:20221124T190000
DTSTAMP:20260424T235932
CREATED:20220411T091659Z
LAST-MODIFIED:20221110T071633Z
UID:2047-1669309200-1669316400@ghi-diepoldsau.ch
SUMMARY:Stamm
DESCRIPTION:
URL:https://ghi-diepoldsau.ch/agenda/stamm-5/
LOCATION:RMD Informatik GmbH\, Werkstrasse 6\, Diepoldsau\, St. Gallen\, 9444\, Switzerland
ATTACH;FMTTYPE=image/jpeg:https://ghi-diepoldsau.ch/wp-content/uploads/2022/04/Einladung-4-GHI-Stamm_vs.jpg
END:VEVENT
BEGIN:VEVENT
DTSTART;TZID=Europe/Berlin:20221120T100000
DTEND;TZID=Europe/Berlin:20221120T170000
DTSTAMP:20260424T235932
CREATED:20220927T133406Z
LAST-MODIFIED:20220927T143142Z
UID:2120-1668938400-1668963600@ghi-diepoldsau.ch
SUMMARY:Novembermärtli
DESCRIPTION:
URL:https://ghi-diepoldsau.ch/agenda/novembermaertli/
LOCATION:Diepoldsau\, Hohenemserstrasse 4\, Diepoldsau\, St. Gallen\, 9444\, Switzerland
END:VEVENT
BEGIN:VEVENT
DTSTART;TZID=Europe/Berlin:20220929T170000
DTEND;TZID=Europe/Berlin:20220929T190000
DTSTAMP:20260424T235932
CREATED:20220404T062514Z
LAST-MODIFIED:20220707T093424Z
UID:2034-1664470800-1664478000@ghi-diepoldsau.ch
SUMMARY:Stamm (noch offen)
DESCRIPTION:
URL:https://ghi-diepoldsau.ch/agenda/stamm-3/
END:VEVENT
BEGIN:VEVENT
DTSTART;TZID=Europe/Berlin:20220929T070000
DTEND;TZID=Europe/Berlin:20220929T093000
DTSTAMP:20260424T235932
CREATED:20220411T091606Z
LAST-MODIFIED:20220411T091722Z
UID:2045-1664434800-1664443800@ghi-diepoldsau.ch
SUMMARY:Unternehmerfrühstück
DESCRIPTION:
URL:https://ghi-diepoldsau.ch/agenda/unternehmerfruehstueck/
END:VEVENT
BEGIN:VEVENT
DTSTART;TZID=Europe/Berlin:20220825T170000
DTEND;TZID=Europe/Berlin:20220825T190000
DTSTAMP:20260424T235932
CREATED:20220404T062445Z
LAST-MODIFIED:20220411T082335Z
UID:2032-1661446800-1661454000@ghi-diepoldsau.ch
SUMMARY:Stamm
DESCRIPTION:
URL:https://ghi-diepoldsau.ch/agenda/stamm-2/
LOCATION:Carrosserie Zinsli\, Güterstrasse 37\, Diepoldsau\, 9444\, Switzerland
END:VEVENT
BEGIN:VEVENT
DTSTART;TZID=Europe/Berlin:20220630T140000
DTEND;TZID=Europe/Berlin:20220630T220000
DTSTAMP:20260424T235932
CREATED:20220404T062404Z
LAST-MODIFIED:20220411T081933Z
UID:2030-1656597600-1656626400@ghi-diepoldsau.ch
SUMMARY:Mitglieder-Ausflug
DESCRIPTION:
URL:https://ghi-diepoldsau.ch/agenda/mitglieder-ausflug/
END:VEVENT
END:VCALENDAR