BEGIN:VCALENDAR
VERSION:2.0
PRODID:-//ghi gewerbeverein - ECPv6.15.14//NONSGML v1.0//EN
CALSCALE:GREGORIAN
METHOD:PUBLISH
X-WR-CALNAME:ghi gewerbeverein
X-ORIGINAL-URL:https://ghi-diepoldsau.ch
X-WR-CALDESC:Veranstaltungen für ghi gewerbeverein
REFRESH-INTERVAL;VALUE=DURATION:PT1H
X-Robots-Tag:noindex
X-PUBLISHED-TTL:PT1H
BEGIN:VTIMEZONE
TZID:Europe/Berlin
BEGIN:DAYLIGHT
TZOFFSETFROM:+0100
TZOFFSETTO:+0200
TZNAME:CEST
DTSTART:20250330T010000
END:DAYLIGHT
BEGIN:STANDARD
TZOFFSETFROM:+0200
TZOFFSETTO:+0100
TZNAME:CET
DTSTART:20251026T010000
END:STANDARD
BEGIN:DAYLIGHT
TZOFFSETFROM:+0100
TZOFFSETTO:+0200
TZNAME:CEST
DTSTART:20260329T010000
END:DAYLIGHT
BEGIN:STANDARD
TZOFFSETFROM:+0200
TZOFFSETTO:+0100
TZNAME:CET
DTSTART:20261025T010000
END:STANDARD
BEGIN:DAYLIGHT
TZOFFSETFROM:+0100
TZOFFSETTO:+0200
TZNAME:CEST
DTSTART:20270328T010000
END:DAYLIGHT
BEGIN:STANDARD
TZOFFSETFROM:+0200
TZOFFSETTO:+0100
TZNAME:CET
DTSTART:20271031T010000
END:STANDARD
END:VTIMEZONE
BEGIN:VEVENT
DTSTART;TZID=Europe/Berlin:20260528T090000
DTEND;TZID=Europe/Berlin:20260528T110000
DTSTAMP:20260425T020518
CREATED:20260115T082917Z
LAST-MODIFIED:20260115T082927Z
UID:2993-1779958800-1779966000@ghi-diepoldsau.ch
SUMMARY:«Gwerbler-Znüni» im Zentrum Rheinauen\, Diepoldsau
DESCRIPTION:
URL:https://ghi-diepoldsau.ch/agenda/gwerbler-znueni-im-zentrum-rheinauen-diepoldsau/
LOCATION:Zentrum Rheinauen\, Heimstrasse 10\, Diepoldsau\, St. Gallen\, 9444\, Switzerland
END:VEVENT
BEGIN:VEVENT
DTSTART;TZID=Europe/Berlin:20260625T173000
DTEND;TZID=Europe/Berlin:20260625T193000
DTSTAMP:20260425T020518
CREATED:20260115T083157Z
LAST-MODIFIED:20260115T083157Z
UID:3001-1782408600-1782415800@ghi-diepoldsau.ch
SUMMARY:Stamm: Löwengarage Reto Wüst\, Diepoldsau
DESCRIPTION:
URL:https://ghi-diepoldsau.ch/agenda/stamm-loewengarage-reto-wuest-diepoldsau/
LOCATION:Löwengarage Reto Wüst\, Neudorfstrasse 3\, Diepoldsau\, 9444\, Switzerland
END:VEVENT
BEGIN:VEVENT
DTSTART;TZID=Europe/Berlin:20260820T130000
DTEND;TZID=Europe/Berlin:20260820T220000
DTSTAMP:20260425T020518
CREATED:20260115T084417Z
LAST-MODIFIED:20260115T084417Z
UID:3013-1787230800-1787263200@ghi-diepoldsau.ch
SUMMARY:Mitglieder-Ausflug\, Besuch Dorf Appenzell
DESCRIPTION:Führung Appenzeller Alpenbitter mit anschliessender Genuss-Tour durchs malerische Dorf Appenzell
URL:https://ghi-diepoldsau.ch/agenda/mitglieder-ausflug-besuch-dorf-appenzell/
LOCATION:Appenzeller Alpenbitter AG\, Weissbadstrasse 27\, Appenzell\, 9050\, Switzerland
END:VEVENT
BEGIN:VEVENT
DTSTART;TZID=Europe/Berlin:20261022T173000
DTEND;TZID=Europe/Berlin:20261022T193000
DTSTAMP:20260425T020518
CREATED:20260115T083515Z
LAST-MODIFIED:20260115T083515Z
UID:3005-1792690200-1792697400@ghi-diepoldsau.ch
SUMMARY:Stamm: Technische Betriebe – CATV\, Diepoldsau
DESCRIPTION:
URL:https://ghi-diepoldsau.ch/agenda/stamm-technische-betriebe-catv-diepoldsau/
LOCATION:Technische Betriebe – CATV\, Hohenemserstrasse 74\, Diepoldsau\, 9444\, Switzerland
END:VEVENT
BEGIN:VEVENT
DTSTART;TZID=Europe/Berlin:20261126T180000
DTEND;TZID=Europe/Berlin:20261126T200000
DTSTAMP:20260425T020518
CREATED:20260115T083722Z
LAST-MODIFIED:20260115T083722Z
UID:3009-1795716000-1795723200@ghi-diepoldsau.ch
SUMMARY:Stamm: Frei Haushalt AG\, Widnau
DESCRIPTION:
URL:https://ghi-diepoldsau.ch/agenda/stamm-frei-haushalt-ag-widnau/
LOCATION:Frei Haushalt AG\, Poststrasse 8\, Widnau\, 9443\, Switzerland
END:VEVENT
END:VCALENDAR